BEGIN:VCALENDAR
VERSION:2.0
PRODID:-//Estância de Socorro - SP - ECPv6.5.0//NONSGML v1.0//EN
CALSCALE:GREGORIAN
METHOD:PUBLISH
X-ORIGINAL-URL:https://www.estanciadesocorro.com.br
X-WR-CALDESC:Eventos para Estância de Socorro - SP
REFRESH-INTERVAL;VALUE=DURATION:PT1H
X-Robots-Tag:noindex
X-PUBLISHED-TTL:PT1H
BEGIN:VTIMEZONE
TZID:America/Sao_Paulo
BEGIN:STANDARD
TZOFFSETFROM:-0300
TZOFFSETTO:-0300
TZNAME:-03
DTSTART:20240101T000000
END:STANDARD
END:VTIMEZONE
BEGIN:VEVENT
DTSTART;TZID=America/Sao_Paulo:20241225T203000
DTEND;TZID=America/Sao_Paulo:20241225T235900
DTSTAMP:20260423T222014
CREATED:20241205T010048Z
LAST-MODIFIED:20241205T010048Z
UID:8199-1735158600-1735171140@www.estanciadesocorro.com.br
SUMMARY:DJs Flashback
DESCRIPTION:No dia 25/12\, 20:30 as melhores músicas dos anos 80\,90 e 2000 com os DJs:\nJr Help\, Fernando\, Ittamar e G-Mau \nA praça vai virar uma pista\, traga toda turma.
URL:https://www.estanciadesocorro.com.br/evento/djs-flashback/
LOCATION:Praça da Matriz\, Praça Coronel Olímpio G dos Reis\, Socorro\, SP\, 13960000\, Brasil
END:VEVENT
END:VCALENDAR