BEGIN:VCALENDAR
VERSION:2.0
PRODID:-//Estância de Socorro - SP - ECPv6.5.0//NONSGML v1.0//EN
CALSCALE:GREGORIAN
METHOD:PUBLISH
X-ORIGINAL-URL:https://www.estanciadesocorro.com.br
X-WR-CALDESC:Eventos para Estância de Socorro - SP
REFRESH-INTERVAL;VALUE=DURATION:PT1H
X-Robots-Tag:noindex
X-PUBLISHED-TTL:PT1H
BEGIN:VTIMEZONE
TZID:America/Sao_Paulo
BEGIN:STANDARD
TZOFFSETFROM:-0300
TZOFFSETTO:-0300
TZNAME:-03
DTSTART:20240101T000000
END:STANDARD
END:VTIMEZONE
BEGIN:VEVENT
DTSTART;TZID=America/Sao_Paulo:20240530T070000
DTEND;TZID=America/Sao_Paulo:20240530T170000
DTSTAMP:20260424T084510
CREATED:20240529T124535Z
LAST-MODIFIED:20240529T125149Z
UID:8036-1717052400-1717088400@www.estanciadesocorro.com.br
SUMMARY:Corpus Christi
DESCRIPTION:Confira a programação de Corpus christi em Socorro/SP
URL:https://www.estanciadesocorro.com.br/evento/corpus-christi/
LOCATION:Socorro\, SP\, Praça Cel Olimpio G dos Reis\, Socorro\, SP\, 13960000\, Brasil
END:VEVENT
BEGIN:VEVENT
DTSTART;TZID=America/Sao_Paulo:20240530T180000
DTEND;TZID=America/Sao_Paulo:20240601T220000
DTSTAMP:20260424T084510
CREATED:20240529T130314Z
LAST-MODIFIED:20240529T130801Z
UID:8041-1717092000-1717279200@www.estanciadesocorro.com.br
SUMMARY:Festa da Marechal
DESCRIPTION:Confira a Programação da Festa da Marechal
URL:https://www.estanciadesocorro.com.br/evento/festa-da-marechal/
LOCATION:Rua Marechal Floriano Peixoto – Socorro-SP\, Rua Marechal Floriano Peixto\, Socorro\, SP\, 13960000\, Brasil
ATTACH;FMTTYPE=image/jpeg:https://www.estanciadesocorro.com.br/wp-content/uploads/2024/05/festa-da-marechal-corpus-cristi-socorro-sp-destaque.jpg
END:VEVENT
END:VCALENDAR